BEGIN:VCALENDAR
VERSION:2.0
PRODID:icalendar-ruby
CALSCALE:GREGORIAN
METHOD:PUBLISH
BEGIN:VEVENT
DTSTAMP:20260421T080443Z
UID:19-357264@iglesiappeniel.com
DTSTART:20260418T000000Z
DTEND:20260418T020000Z
CLASS:PUBLIC
CREATED:20260413T162247
DESCRIPTION:Viernes 17 de abril a las 8:00 p.m.
LAST-MODIFIED:20260413T162247
LOCATION:
SUMMARY:Vigilia
URL;VALUE=URI:https://www.iglesiappeniel.com/events/vigilia/2026-04-17
ATTACH;FILENAME=2_White-and-Black-Church-Prayer-YouTube-Thumbnail.jpg;FMTTY
 PE=image/jpeg:https://dq5pwpg1q8ru0.cloudfront.net/2026/04/06/14/24/37/d15
 4864e-408e-4016-98bf-98f21eb69bdf/2_White-and-Black-Church-Prayer-YouTube-
 Thumbnail.jpg
END:VEVENT
END:VCALENDAR
