BEGIN:VCALENDAR
VERSION:2.0
PRODID:icalendar-ruby
CALSCALE:GREGORIAN
METHOD:PUBLISH
BEGIN:VEVENT
DTSTAMP:20260421T095555Z
UID:20-357263@iglesiappeniel.com
DTSTART:20260419T213000Z
DTEND:20260419T233000Z
CLASS:PUBLIC
CREATED:20260413T162213
DESCRIPTION:Domingo 19 de abril a las 5:30 p.m.Para más información\, com
 uníquese con las hermanas Mariana G. y María Castillo.
LAST-MODIFIED:20260413T162213
LOCATION:
SUMMARY:Evangelización en las calles
URL;VALUE=URI:https://www.iglesiappeniel.com/events/evangelizacion-en-las-c
 alles--20/2026-04-19
ATTACH;FILENAME=EVANGEISMO-ABRIL.jpg;FMTTYPE=image/jpeg:https://dq5pwpg1q8r
 u0.cloudfront.net/2026/04/10/19/29/10/d78cecdb-b6b0-4af0-aa32-72aa6167636c
 /EVANGEISMO-ABRIL.jpg
END:VEVENT
END:VCALENDAR
